BEGIN:VCALENDAR
VERSION:2.0
PRODID:-//Houston Heights Association - ECPv6.15.20//NONSGML v1.0//EN
CALSCALE:GREGORIAN
METHOD:PUBLISH
X-WR-CALNAME:Houston Heights Association
X-ORIGINAL-URL:https://houstonheights.org
X-WR-CALDESC:Events for Houston Heights Association
REFRESH-INTERVAL;VALUE=DURATION:PT1H
X-Robots-Tag:noindex
X-PUBLISHED-TTL:PT1H
BEGIN:VTIMEZONE
TZID:America/Chicago
BEGIN:DAYLIGHT
TZOFFSETFROM:-0600
TZOFFSETTO:-0500
TZNAME:CDT
DTSTART:20250309T080000
END:DAYLIGHT
BEGIN:STANDARD
TZOFFSETFROM:-0500
TZOFFSETTO:-0600
TZNAME:CST
DTSTART:20251102T070000
END:STANDARD
BEGIN:DAYLIGHT
TZOFFSETFROM:-0600
TZOFFSETTO:-0500
TZNAME:CDT
DTSTART:20260308T080000
END:DAYLIGHT
BEGIN:STANDARD
TZOFFSETFROM:-0500
TZOFFSETTO:-0600
TZNAME:CST
DTSTART:20261101T070000
END:STANDARD
BEGIN:DAYLIGHT
TZOFFSETFROM:-0600
TZOFFSETTO:-0500
TZNAME:CDT
DTSTART:20270314T080000
END:DAYLIGHT
BEGIN:STANDARD
TZOFFSETFROM:-0500
TZOFFSETTO:-0600
TZNAME:CST
DTSTART:20271107T070000
END:STANDARD
END:VTIMEZONE
BEGIN:VEVENT
DTSTART;TZID=America/Chicago:20260417T180000
DTEND;TZID=America/Chicago:20260417T200000
DTSTAMP:20260425T201133
CREATED:20260407T035826Z
LAST-MODIFIED:20260407T035827Z
UID:24300-1776448800-1776456000@houstonheights.org
SUMMARY:Garden Tour/Chat 636 East 12th St.
DESCRIPTION:Garden Tour/Chat 636 East 12th St. \nWildflowers!  June is peak season for many wildflowers.  Brenda’s easement is full of flowering wildflowers buzzing with bees and butterflies.  Have you been thinking of adding native wildflowers to your gardens?  Find out how easy they are\, but also how to make them look presentable most of the year.  The rest of the garden is available to tour including a backyard shade garden under a very old and impressive live oak.  She continues to find more opportunities to incorporate native plants in the landscape for extreme weather resiliency. \nCome for the tour; stay for the chat which will begin at 6:45. We will discuss growing wildflowers and any other gardening topic of your choosing. Some seating is available for the chat\, but please bring your own chair if you can. \n 
URL:https://houstonheights.org/event/garden-tour-chat-636-east-12th-st/
CATEGORIES:Heights Garden Club
ATTACH;FMTTYPE=image/webp:https://houstonheights.org/wp-content/uploads/2026/04/Wildflowers_3.webp
END:VEVENT
END:VCALENDAR