BEGIN:VCALENDAR
VERSION:2.0
PRODID:-//Houston Heights Association - ECPv6.15.20//NONSGML v1.0//EN
CALSCALE:GREGORIAN
METHOD:PUBLISH
X-ORIGINAL-URL:https://houstonheights.org
X-WR-CALDESC:Events for Houston Heights Association
REFRESH-INTERVAL;VALUE=DURATION:PT1H
X-Robots-Tag:noindex
X-PUBLISHED-TTL:PT1H
BEGIN:VTIMEZONE
TZID:America/Chicago
BEGIN:DAYLIGHT
TZOFFSETFROM:-0600
TZOFFSETTO:-0500
TZNAME:CDT
DTSTART:20250309T080000
END:DAYLIGHT
BEGIN:STANDARD
TZOFFSETFROM:-0500
TZOFFSETTO:-0600
TZNAME:CST
DTSTART:20251102T070000
END:STANDARD
BEGIN:DAYLIGHT
TZOFFSETFROM:-0600
TZOFFSETTO:-0500
TZNAME:CDT
DTSTART:20260308T080000
END:DAYLIGHT
BEGIN:STANDARD
TZOFFSETFROM:-0500
TZOFFSETTO:-0600
TZNAME:CST
DTSTART:20261101T070000
END:STANDARD
BEGIN:DAYLIGHT
TZOFFSETFROM:-0600
TZOFFSETTO:-0500
TZNAME:CDT
DTSTART:20270314T080000
END:DAYLIGHT
BEGIN:STANDARD
TZOFFSETFROM:-0500
TZOFFSETTO:-0600
TZNAME:CST
DTSTART:20271107T070000
END:STANDARD
END:VTIMEZONE
BEGIN:VEVENT
DTSTART;TZID=America/Chicago:20260511T183000
DTEND;TZID=America/Chicago:20260511T203000
DTSTAMP:20260423T113025
CREATED:20260121T032918Z
LAST-MODIFIED:20260304T031135Z
UID:22708-1778524200-1778531400@houstonheights.org
SUMMARY:May 2026 General Meeting
DESCRIPTION:
URL:https://houstonheights.org/event/may-2026-general-meeting/
LOCATION:Houston Heights City Hall & Fire Station\, 107 W. 12th Street\, Houston\, TX\, 77008\, United States
CATEGORIES:General Meeting
ATTACH;FMTTYPE=image/webp:https://houstonheights.org/wp-content/uploads/2026/01/May-Place-Holder-ARt.webp
END:VEVENT
BEGIN:VEVENT
DTSTART;TZID=America/Chicago:20260713T183000
DTEND;TZID=America/Chicago:20260713T203000
DTSTAMP:20260423T113025
CREATED:20260121T033446Z
LAST-MODIFIED:20260304T030141Z
UID:22712-1783967400-1783974600@houstonheights.org
SUMMARY:July 2026 General Meeting
DESCRIPTION:
URL:https://houstonheights.org/event/july-2026-general-meeting/
LOCATION:Houston Heights City Hall & Fire Station\, 107 W. 12th Street\, Houston\, TX\, 77008\, United States
CATEGORIES:General Meeting
ATTACH;FMTTYPE=image/webp:https://houstonheights.org/wp-content/uploads/2026/01/July-Place-Holder-ARt.webp
END:VEVENT
BEGIN:VEVENT
DTSTART;TZID=America/Chicago:20260810T183000
DTEND;TZID=America/Chicago:20260810T203000
DTSTAMP:20260423T113025
CREATED:20260121T033621Z
LAST-MODIFIED:20260304T025457Z
UID:22714-1786386600-1786393800@houstonheights.org
SUMMARY:August 2026 General Meeting
DESCRIPTION:
URL:https://houstonheights.org/event/august-2026-general-meeting/
LOCATION:Houston Heights City Hall & Fire Station\, 107 W. 12th Street\, Houston\, TX\, 77008\, United States
CATEGORIES:General Meeting
ATTACH;FMTTYPE=image/webp:https://houstonheights.org/wp-content/uploads/2026/01/August-Place-Holder-ARt.webp
END:VEVENT
BEGIN:VEVENT
DTSTART;TZID=America/Chicago:20260914T183000
DTEND;TZID=America/Chicago:20260914T203000
DTSTAMP:20260423T113025
CREATED:20260121T033943Z
LAST-MODIFIED:20260304T024643Z
UID:22716-1789410600-1789417800@houstonheights.org
SUMMARY:September 2026 General Meeting
DESCRIPTION:
URL:https://houstonheights.org/event/september-2026-general-meeting/
LOCATION:Houston Heights City Hall & Fire Station\, 107 W. 12th Street\, Houston\, TX\, 77008\, United States
CATEGORIES:General Meeting
ATTACH;FMTTYPE=image/webp:https://houstonheights.org/wp-content/uploads/2026/01/September-Place-Holder-ARt.webp
END:VEVENT
BEGIN:VEVENT
DTSTART;TZID=America/Chicago:20261012T183000
DTEND;TZID=America/Chicago:20261012T203000
DTSTAMP:20260423T113025
CREATED:20260121T034549Z
LAST-MODIFIED:20260303T232307Z
UID:22718-1791829800-1791837000@houstonheights.org
SUMMARY:October 2026 General Meeting
DESCRIPTION:
URL:https://houstonheights.org/event/october-2026-general-meeting/
LOCATION:Houston Heights City Hall & Fire Station\, 107 W. 12th Street\, Houston\, TX\, 77008\, United States
CATEGORIES:General Meeting
ATTACH;FMTTYPE=image/webp:https://houstonheights.org/wp-content/uploads/2026/01/October-Place-Holder-ARt.webp
END:VEVENT
BEGIN:VEVENT
DTSTART;TZID=America/Chicago:20261109T183000
DTEND;TZID=America/Chicago:20261109T203000
DTSTAMP:20260423T113025
CREATED:20260121T034741Z
LAST-MODIFIED:20260303T230945Z
UID:22720-1794249000-1794256200@houstonheights.org
SUMMARY:November 2026 General Meeting
DESCRIPTION:
URL:https://houstonheights.org/event/november-2026-general-meeting/
LOCATION:Houston Heights City Hall & Fire Station\, 107 W. 12th Street\, Houston\, TX\, 77008\, United States
CATEGORIES:General Meeting
ATTACH;FMTTYPE=image/webp:https://houstonheights.org/wp-content/uploads/2026/01/November-Place-Holder-ARt.webp
END:VEVENT
BEGIN:VEVENT
DTSTART;TZID=America/Chicago:20261214T183000
DTEND;TZID=America/Chicago:20261214T203000
DTSTAMP:20260423T113025
CREATED:20260121T034929Z
LAST-MODIFIED:20260303T225349Z
UID:22722-1797273000-1797280200@houstonheights.org
SUMMARY:December 2026 General Meeting
DESCRIPTION:
URL:https://houstonheights.org/event/december-2026-general-meeting/
LOCATION:Houston Heights City Hall & Fire Station\, 107 W. 12th Street\, Houston\, TX\, 77008\, United States
CATEGORIES:General Meeting
ATTACH;FMTTYPE=image/webp:https://houstonheights.org/wp-content/uploads/2026/01/December-Place-Holder-ARt.webp
END:VEVENT
END:VCALENDAR