BEGIN:VCALENDAR
VERSION:2.0
PRODID:-//Houston Heights Association - ECPv6.15.20//NONSGML v1.0//EN
CALSCALE:GREGORIAN
METHOD:PUBLISH
X-ORIGINAL-URL:https://houstonheights.org
X-WR-CALDESC:Events for Houston Heights Association
REFRESH-INTERVAL;VALUE=DURATION:PT1H
X-Robots-Tag:noindex
X-PUBLISHED-TTL:PT1H
BEGIN:VTIMEZONE
TZID:America/Chicago
BEGIN:DAYLIGHT
TZOFFSETFROM:-0600
TZOFFSETTO:-0500
TZNAME:CDT
DTSTART:20250309T080000
END:DAYLIGHT
BEGIN:STANDARD
TZOFFSETFROM:-0500
TZOFFSETTO:-0600
TZNAME:CST
DTSTART:20251102T070000
END:STANDARD
BEGIN:DAYLIGHT
TZOFFSETFROM:-0600
TZOFFSETTO:-0500
TZNAME:CDT
DTSTART:20260308T080000
END:DAYLIGHT
BEGIN:STANDARD
TZOFFSETFROM:-0500
TZOFFSETTO:-0600
TZNAME:CST
DTSTART:20261101T070000
END:STANDARD
BEGIN:DAYLIGHT
TZOFFSETFROM:-0600
TZOFFSETTO:-0500
TZNAME:CDT
DTSTART:20270314T080000
END:DAYLIGHT
BEGIN:STANDARD
TZOFFSETFROM:-0500
TZOFFSETTO:-0600
TZNAME:CST
DTSTART:20271107T070000
END:STANDARD
END:VTIMEZONE
BEGIN:VEVENT
DTSTART;VALUE=DATE:20261105
DTEND;VALUE=DATE:20261106
DTSTAMP:20260425T065531
CREATED:20260121T043921Z
LAST-MODIFIED:20260303T231105Z
UID:22772-1793836800-1793923199@houstonheights.org
SUMMARY:Gabage and Recycle Pick Up
DESCRIPTION:
URL:https://houstonheights.org/event/gabage-and-recycle-pick-up-14/
CATEGORIES:Garbage Pick-Up,Recycling pick-up
ATTACH;FMTTYPE=image/webp:https://houstonheights.org/wp-content/uploads/2026/01/Garbage-Recyle-Icons.webp
END:VEVENT
BEGIN:VEVENT
DTSTART;VALUE=DATE:20261112
DTEND;VALUE=DATE:20261113
DTSTAMP:20260425T065531
CREATED:20260121T044150Z
LAST-MODIFIED:20260303T230728Z
UID:22774-1794441600-1794527999@houstonheights.org
SUMMARY:Gabage Pick Up
DESCRIPTION:
URL:https://houstonheights.org/event/gabage-pick-up-11/
CATEGORIES:Garbage Pick-Up
ATTACH;FMTTYPE=image/webp:https://houstonheights.org/wp-content/uploads/2026/01/GarbageIcon.webp
END:VEVENT
BEGIN:VEVENT
DTSTART;VALUE=DATE:20261119
DTEND;VALUE=DATE:20261120
DTSTAMP:20260425T065531
CREATED:20260121T044359Z
LAST-MODIFIED:20260303T230547Z
UID:22776-1795046400-1795132799@houstonheights.org
SUMMARY:Gabage and Recycle Pick Up
DESCRIPTION:
URL:https://houstonheights.org/event/gabage-and-recycle-pick-up-15/
CATEGORIES:Garbage Pick-Up,Recycling pick-up
ATTACH;FMTTYPE=image/webp:https://houstonheights.org/wp-content/uploads/2026/01/Garbage-Recyle-Icons.webp
END:VEVENT
BEGIN:VEVENT
DTSTART;VALUE=DATE:20261203
DTEND;VALUE=DATE:20261204
DTSTAMP:20260425T065531
CREATED:20260121T044520Z
LAST-MODIFIED:20260303T230303Z
UID:22778-1796256000-1796342399@houstonheights.org
SUMMARY:Gabage and Recycle Pick Up
DESCRIPTION:
URL:https://houstonheights.org/event/gabage-and-recycle-pick-up-16/
CATEGORIES:Garbage Pick-Up,Recycling pick-up
ATTACH;FMTTYPE=image/webp:https://houstonheights.org/wp-content/uploads/2026/01/Garbage-Recyle-Icons.webp
END:VEVENT
BEGIN:VEVENT
DTSTART;VALUE=DATE:20261210
DTEND;VALUE=DATE:20261211
DTSTAMP:20260425T065531
CREATED:20260121T044657Z
LAST-MODIFIED:20260303T230210Z
UID:22780-1796860800-1796947199@houstonheights.org
SUMMARY:Gabage Pick Up
DESCRIPTION:
URL:https://houstonheights.org/event/gabage-pick-up-12/
CATEGORIES:Garbage Pick-Up
ATTACH;FMTTYPE=image/webp:https://houstonheights.org/wp-content/uploads/2026/01/GarbageIcon.webp
END:VEVENT
BEGIN:VEVENT
DTSTART;VALUE=DATE:20261217
DTEND;VALUE=DATE:20261218
DTSTAMP:20260425T065531
CREATED:20260121T044822Z
LAST-MODIFIED:20260303T225228Z
UID:22782-1797465600-1797551999@houstonheights.org
SUMMARY:Gabage and Recycle Pick Up
DESCRIPTION:
URL:https://houstonheights.org/event/gabage-and-recycle-pick-up-17/
CATEGORIES:Garbage Pick-Up,Recycling pick-up
ATTACH;FMTTYPE=image/webp:https://houstonheights.org/wp-content/uploads/2026/01/Garbage-Recyle-Icons.webp
END:VEVENT
END:VCALENDAR