BEGIN:VCALENDAR
VERSION:2.0
PRODID:-//Houston Heights Association - ECPv6.15.20//NONSGML v1.0//EN
CALSCALE:GREGORIAN
METHOD:PUBLISH
X-ORIGINAL-URL:https://houstonheights.org
X-WR-CALDESC:Events for Houston Heights Association
REFRESH-INTERVAL;VALUE=DURATION:PT1H
X-Robots-Tag:noindex
X-PUBLISHED-TTL:PT1H
BEGIN:VTIMEZONE
TZID:America/Chicago
BEGIN:DAYLIGHT
TZOFFSETFROM:-0600
TZOFFSETTO:-0500
TZNAME:CDT
DTSTART:20250309T080000
END:DAYLIGHT
BEGIN:STANDARD
TZOFFSETFROM:-0500
TZOFFSETTO:-0600
TZNAME:CST
DTSTART:20251102T070000
END:STANDARD
BEGIN:DAYLIGHT
TZOFFSETFROM:-0600
TZOFFSETTO:-0500
TZNAME:CDT
DTSTART:20260308T080000
END:DAYLIGHT
BEGIN:STANDARD
TZOFFSETFROM:-0500
TZOFFSETTO:-0600
TZNAME:CST
DTSTART:20261101T070000
END:STANDARD
BEGIN:DAYLIGHT
TZOFFSETFROM:-0600
TZOFFSETTO:-0500
TZNAME:CDT
DTSTART:20270314T080000
END:DAYLIGHT
BEGIN:STANDARD
TZOFFSETFROM:-0500
TZOFFSETTO:-0600
TZNAME:CST
DTSTART:20271107T070000
END:STANDARD
END:VTIMEZONE
BEGIN:VEVENT
DTSTART;VALUE=DATE:20260423
DTEND;VALUE=DATE:20260424
DTSTAMP:20260423T110413
CREATED:20260120T210735Z
LAST-MODIFIED:20260304T032220Z
UID:22700-1776902400-1776988799@houstonheights.org
SUMMARY:Garbage and Recycling Pick up
DESCRIPTION:
URL:https://houstonheights.org/event/garbage-and-recycling-pick-up-6/
CATEGORIES:Garbage Pick-Up,Recycling pick-up
ATTACH;FMTTYPE=image/webp:https://houstonheights.org/wp-content/uploads/2026/01/Garbage-Recyle-Icons.webp
END:VEVENT
BEGIN:VEVENT
DTSTART;VALUE=DATE:20260430
DTEND;VALUE=DATE:20260501
DTSTAMP:20260423T110413
CREATED:20260121T035541Z
LAST-MODIFIED:20260304T031728Z
UID:22724-1777507200-1777593599@houstonheights.org
SUMMARY:Garbage Pick Up
DESCRIPTION:
URL:https://houstonheights.org/event/garbage-pick-up-8/
CATEGORIES:Garbage Pick-Up
ATTACH;FMTTYPE=image/webp:https://houstonheights.org/wp-content/uploads/2026/01/GarbageIcon.webp
END:VEVENT
BEGIN:VEVENT
DTSTART;VALUE=DATE:20260507
DTEND;VALUE=DATE:20260508
DTSTAMP:20260423T110413
CREATED:20260121T035838Z
LAST-MODIFIED:20260304T031607Z
UID:22726-1778112000-1778198399@houstonheights.org
SUMMARY:Gabage and Recycle Pick Up
DESCRIPTION:
URL:https://houstonheights.org/event/gabage-and-recycle-pick-up/
CATEGORIES:Garbage Pick-Up,Recycling pick-up
ATTACH;FMTTYPE=image/webp:https://houstonheights.org/wp-content/uploads/2026/01/Garbage-Recyle-Icons.webp
END:VEVENT
BEGIN:VEVENT
DTSTART;VALUE=DATE:20260514
DTEND;VALUE=DATE:20260515
DTSTAMP:20260423T110413
CREATED:20260121T040019Z
LAST-MODIFIED:20260304T031437Z
UID:22728-1778716800-1778803199@houstonheights.org
SUMMARY:Gabage Pick Up
DESCRIPTION:
URL:https://houstonheights.org/event/gabage-pick-up/
CATEGORIES:Garbage Pick-Up
ATTACH;FMTTYPE=image/webp:https://houstonheights.org/wp-content/uploads/2026/01/GarbageIcon.webp
END:VEVENT
BEGIN:VEVENT
DTSTART;VALUE=DATE:20260521
DTEND;VALUE=DATE:20260522
DTSTAMP:20260423T110413
CREATED:20260121T040205Z
LAST-MODIFIED:20260304T031335Z
UID:22730-1779321600-1779407999@houstonheights.org
SUMMARY:Gabage and Recycle Pick Up
DESCRIPTION:
URL:https://houstonheights.org/event/gabage-and-recycle-pick-up-2/
CATEGORIES:Garbage Pick-Up,Recycling pick-up
ATTACH;FMTTYPE=image/webp:https://houstonheights.org/wp-content/uploads/2026/01/Garbage-Recyle-Icons.webp
END:VEVENT
BEGIN:VEVENT
DTSTART;VALUE=DATE:20260604
DTEND;VALUE=DATE:20260605
DTSTAMP:20260423T110414
CREATED:20260121T040351Z
LAST-MODIFIED:20260304T030950Z
UID:22732-1780531200-1780617599@houstonheights.org
SUMMARY:Gabage and Recycle Pick Up
DESCRIPTION:
URL:https://houstonheights.org/event/gabage-and-recycle-pick-up-3/
CATEGORIES:Garbage Pick-Up,Recycling pick-up
ATTACH;FMTTYPE=image/webp:https://houstonheights.org/wp-content/uploads/2026/01/Garbage-Recyle-Icons.webp
END:VEVENT
BEGIN:VEVENT
DTSTART;VALUE=DATE:20260611
DTEND;VALUE=DATE:20260612
DTSTAMP:20260423T110414
CREATED:20260121T040543Z
LAST-MODIFIED:20260304T030816Z
UID:22734-1781136000-1781222399@houstonheights.org
SUMMARY:Gabage Pick Up
DESCRIPTION:
URL:https://houstonheights.org/event/gabage-pick-up-2/
CATEGORIES:Garbage Pick-Up
ATTACH;FMTTYPE=image/webp:https://houstonheights.org/wp-content/uploads/2026/01/GarbageIcon.webp
END:VEVENT
BEGIN:VEVENT
DTSTART;VALUE=DATE:20260618
DTEND;VALUE=DATE:20260619
DTSTAMP:20260423T110414
CREATED:20260121T040659Z
LAST-MODIFIED:20260304T030655Z
UID:22736-1781740800-1781827199@houstonheights.org
SUMMARY:Gabage and Recycle Pick Up
DESCRIPTION:
URL:https://houstonheights.org/event/gabage-and-recycle-pick-up-4/
CATEGORIES:Garbage Pick-Up,Recycling pick-up
ATTACH;FMTTYPE=image/webp:https://houstonheights.org/wp-content/uploads/2026/01/Garbage-Recyle-Icons.webp
END:VEVENT
BEGIN:VEVENT
DTSTART;VALUE=DATE:20260702
DTEND;VALUE=DATE:20260703
DTSTAMP:20260423T110414
CREATED:20260121T040915Z
LAST-MODIFIED:20260304T030502Z
UID:22738-1782950400-1783036799@houstonheights.org
SUMMARY:Gabage and Recycle Pick Up
DESCRIPTION:
URL:https://houstonheights.org/event/gabage-and-recycle-pick-up-5/
CATEGORIES:Garbage Pick-Up,Recycling pick-up
ATTACH;FMTTYPE=image/webp:https://houstonheights.org/wp-content/uploads/2026/01/Garbage-Recyle-Icons.webp
END:VEVENT
BEGIN:VEVENT
DTSTART;VALUE=DATE:20260709
DTEND;VALUE=DATE:20260710
DTSTAMP:20260423T110414
CREATED:20260121T041256Z
LAST-MODIFIED:20260304T030419Z
UID:22740-1783555200-1783641599@houstonheights.org
SUMMARY:Gabage Pick Up
DESCRIPTION:
URL:https://houstonheights.org/event/gabage-and-recycle-pick-up-6/
CATEGORIES:Garbage Pick-Up
ATTACH;FMTTYPE=image/webp:https://houstonheights.org/wp-content/uploads/2026/01/GarbageIcon.webp
END:VEVENT
BEGIN:VEVENT
DTSTART;VALUE=DATE:20260716
DTEND;VALUE=DATE:20260717
DTSTAMP:20260423T110414
CREATED:20260121T041433Z
LAST-MODIFIED:20260304T030018Z
UID:22742-1784160000-1784246399@houstonheights.org
SUMMARY:Gabage and Recycle Pick Up
DESCRIPTION:
URL:https://houstonheights.org/event/gabage-and-recycle-pick-up-7/
CATEGORIES:Garbage Pick-Up,Recycling pick-up
ATTACH;FMTTYPE=image/webp:https://houstonheights.org/wp-content/uploads/2026/01/Garbage-Recyle-Icons.webp
END:VEVENT
BEGIN:VEVENT
DTSTART;VALUE=DATE:20260723
DTEND;VALUE=DATE:20260724
DTSTAMP:20260423T110414
CREATED:20260121T041554Z
LAST-MODIFIED:20260304T025846Z
UID:22744-1784764800-1784851199@houstonheights.org
SUMMARY:Gabage Pick Up
DESCRIPTION:
URL:https://houstonheights.org/event/gabage-pick-up-3/
CATEGORIES:Garbage Pick-Up
ATTACH;FMTTYPE=image/webp:https://houstonheights.org/wp-content/uploads/2026/01/GarbageIcon.webp
END:VEVENT
BEGIN:VEVENT
DTSTART;VALUE=DATE:20260730
DTEND;VALUE=DATE:20260731
DTSTAMP:20260423T110414
CREATED:20260121T041735Z
LAST-MODIFIED:20260304T025712Z
UID:22746-1785369600-1785455999@houstonheights.org
SUMMARY:Gabage and Recycle Pick Up
DESCRIPTION:
URL:https://houstonheights.org/event/gabage-and-recycle-pick-up-8/
CATEGORIES:Garbage Pick-Up,Recycling pick-up
ATTACH;FMTTYPE=image/webp:https://houstonheights.org/wp-content/uploads/2026/01/Garbage-Recyle-Icons.webp
END:VEVENT
BEGIN:VEVENT
DTSTART;VALUE=DATE:20260806
DTEND;VALUE=DATE:20260807
DTSTAMP:20260423T110414
CREATED:20260121T041948Z
LAST-MODIFIED:20260304T025602Z
UID:22748-1785974400-1786060799@houstonheights.org
SUMMARY:Gabage Pick Up
DESCRIPTION:
URL:https://houstonheights.org/event/gabage-pick-up-4/
CATEGORIES:Garbage Pick-Up
ATTACH;FMTTYPE=image/webp:https://houstonheights.org/wp-content/uploads/2026/01/GarbageIcon.webp
END:VEVENT
BEGIN:VEVENT
DTSTART;VALUE=DATE:20260813
DTEND;VALUE=DATE:20260814
DTSTAMP:20260423T110414
CREATED:20260121T042131Z
LAST-MODIFIED:20260304T025341Z
UID:22750-1786579200-1786665599@houstonheights.org
SUMMARY:Gabage and Recycle Pick Up
DESCRIPTION:
URL:https://houstonheights.org/event/gabage-and-recycle-pick-up-9/
CATEGORIES:Garbage Pick-Up,Recycling pick-up
ATTACH;FMTTYPE=image/webp:https://houstonheights.org/wp-content/uploads/2026/01/Garbage-Recyle-Icons.webp
END:VEVENT
BEGIN:VEVENT
DTSTART;VALUE=DATE:20260820
DTEND;VALUE=DATE:20260821
DTSTAMP:20260423T110414
CREATED:20260121T042249Z
LAST-MODIFIED:20260304T025221Z
UID:22752-1787184000-1787270399@houstonheights.org
SUMMARY:Gabage Pick Up
DESCRIPTION:
URL:https://houstonheights.org/event/gabage-pick-up-5/
CATEGORIES:Garbage Pick-Up
ATTACH;FMTTYPE=image/webp:https://houstonheights.org/wp-content/uploads/2026/01/GarbageIcon.webp
END:VEVENT
BEGIN:VEVENT
DTSTART;VALUE=DATE:20260827
DTEND;VALUE=DATE:20260828
DTSTAMP:20260423T110414
CREATED:20260121T042401Z
LAST-MODIFIED:20260304T025037Z
UID:22754-1787788800-1787875199@houstonheights.org
SUMMARY:Gabage and Recycle Pick Up
DESCRIPTION:
URL:https://houstonheights.org/event/gabage-and-recycle-pick-up-10/
CATEGORIES:Garbage Pick-Up,Recycling pick-up
ATTACH;FMTTYPE=image/webp:https://houstonheights.org/wp-content/uploads/2026/01/Garbage-Recyle-Icons.webp
END:VEVENT
BEGIN:VEVENT
DTSTART;VALUE=DATE:20260903
DTEND;VALUE=DATE:20260904
DTSTAMP:20260423T110414
CREATED:20260121T042532Z
LAST-MODIFIED:20260304T024807Z
UID:22756-1788393600-1788479999@houstonheights.org
SUMMARY:Gabage Pick Up
DESCRIPTION:
URL:https://houstonheights.org/event/gabage-pick-up-6/
CATEGORIES:Garbage Pick-Up
ATTACH;FMTTYPE=image/webp:https://houstonheights.org/wp-content/uploads/2026/01/GarbageIcon.webp
END:VEVENT
BEGIN:VEVENT
DTSTART;VALUE=DATE:20260917
DTEND;VALUE=DATE:20260918
DTSTAMP:20260423T110414
CREATED:20260121T042714Z
LAST-MODIFIED:20260304T024451Z
UID:22758-1789603200-1789689599@houstonheights.org
SUMMARY:Gabage Pick Up
DESCRIPTION:
URL:https://houstonheights.org/event/gabage-pick-up-7/
CATEGORIES:Garbage Pick-Up
ATTACH;FMTTYPE=image/webp:https://houstonheights.org/wp-content/uploads/2026/01/GarbageIcon.webp
END:VEVENT
BEGIN:VEVENT
DTSTART;VALUE=DATE:20260924
DTEND;VALUE=DATE:20260925
DTSTAMP:20260423T110414
CREATED:20260121T042831Z
LAST-MODIFIED:20260304T024234Z
UID:22760-1790208000-1790294399@houstonheights.org
SUMMARY:Gabage and Recycle Pick Up
DESCRIPTION:
URL:https://houstonheights.org/event/gabage-and-recycle-pick-up-11/
CATEGORIES:Garbage Pick-Up,Recycling pick-up
ATTACH;FMTTYPE=image/webp:https://houstonheights.org/wp-content/uploads/2026/01/Garbage-Recyle-Icons.webp
END:VEVENT
BEGIN:VEVENT
DTSTART;VALUE=DATE:20261001
DTEND;VALUE=DATE:20261002
DTSTAMP:20260423T110414
CREATED:20260121T043045Z
LAST-MODIFIED:20260304T024013Z
UID:22762-1790812800-1790899199@houstonheights.org
SUMMARY:Gabage Pick Up
DESCRIPTION:
URL:https://houstonheights.org/event/gabage-pick-up-8/
CATEGORIES:Garbage Pick-Up
ATTACH;FMTTYPE=image/webp:https://houstonheights.org/wp-content/uploads/2026/01/GarbageIcon.webp
END:VEVENT
BEGIN:VEVENT
DTSTART;VALUE=DATE:20261008
DTEND;VALUE=DATE:20261009
DTSTAMP:20260423T110414
CREATED:20260121T043224Z
LAST-MODIFIED:20260304T023736Z
UID:22764-1791417600-1791503999@houstonheights.org
SUMMARY:Gabage and Recycle Pick Up
DESCRIPTION:
URL:https://houstonheights.org/event/gabage-and-recycle-pick-up-12/
CATEGORIES:Garbage Pick-Up,Recycling pick-up
ATTACH;FMTTYPE=image/webp:https://houstonheights.org/wp-content/uploads/2026/01/Garbage-Recyle-Icons.webp
END:VEVENT
BEGIN:VEVENT
DTSTART;VALUE=DATE:20261015
DTEND;VALUE=DATE:20261016
DTSTAMP:20260423T110414
CREATED:20260121T043357Z
LAST-MODIFIED:20260303T231944Z
UID:22766-1792022400-1792108799@houstonheights.org
SUMMARY:Gabage Pick Up
DESCRIPTION:
URL:https://houstonheights.org/event/gabage-pick-up-9/
CATEGORIES:Garbage Pick-Up
ATTACH;FMTTYPE=image/webp:https://houstonheights.org/wp-content/uploads/2026/01/GarbageIcon.webp
END:VEVENT
BEGIN:VEVENT
DTSTART;VALUE=DATE:20261022
DTEND;VALUE=DATE:20261023
DTSTAMP:20260423T110414
CREATED:20260121T043623Z
LAST-MODIFIED:20260303T231731Z
UID:22768-1792627200-1792713599@houstonheights.org
SUMMARY:Gabage and Recycle Pick Up
DESCRIPTION:
URL:https://houstonheights.org/event/gabage-and-recycle-pick-up-13/
CATEGORIES:Garbage Pick-Up,Recycling pick-up
ATTACH;FMTTYPE=image/webp:https://houstonheights.org/wp-content/uploads/2026/01/Garbage-Recyle-Icons.webp
END:VEVENT
BEGIN:VEVENT
DTSTART;VALUE=DATE:20261029
DTEND;VALUE=DATE:20261030
DTSTAMP:20260423T110414
CREATED:20260121T043750Z
LAST-MODIFIED:20260303T231540Z
UID:22770-1793232000-1793318399@houstonheights.org
SUMMARY:Gabage Pick Up
DESCRIPTION:
URL:https://houstonheights.org/event/gabage-pick-up-10/
CATEGORIES:Garbage Pick-Up
ATTACH;FMTTYPE=image/webp:https://houstonheights.org/wp-content/uploads/2026/01/GarbageIcon.webp
END:VEVENT
BEGIN:VEVENT
DTSTART;VALUE=DATE:20261105
DTEND;VALUE=DATE:20261106
DTSTAMP:20260423T110414
CREATED:20260121T043921Z
LAST-MODIFIED:20260303T231105Z
UID:22772-1793836800-1793923199@houstonheights.org
SUMMARY:Gabage and Recycle Pick Up
DESCRIPTION:
URL:https://houstonheights.org/event/gabage-and-recycle-pick-up-14/
CATEGORIES:Garbage Pick-Up,Recycling pick-up
ATTACH;FMTTYPE=image/webp:https://houstonheights.org/wp-content/uploads/2026/01/Garbage-Recyle-Icons.webp
END:VEVENT
BEGIN:VEVENT
DTSTART;VALUE=DATE:20261112
DTEND;VALUE=DATE:20261113
DTSTAMP:20260423T110414
CREATED:20260121T044150Z
LAST-MODIFIED:20260303T230728Z
UID:22774-1794441600-1794527999@houstonheights.org
SUMMARY:Gabage Pick Up
DESCRIPTION:
URL:https://houstonheights.org/event/gabage-pick-up-11/
CATEGORIES:Garbage Pick-Up
ATTACH;FMTTYPE=image/webp:https://houstonheights.org/wp-content/uploads/2026/01/GarbageIcon.webp
END:VEVENT
BEGIN:VEVENT
DTSTART;VALUE=DATE:20261119
DTEND;VALUE=DATE:20261120
DTSTAMP:20260423T110414
CREATED:20260121T044359Z
LAST-MODIFIED:20260303T230547Z
UID:22776-1795046400-1795132799@houstonheights.org
SUMMARY:Gabage and Recycle Pick Up
DESCRIPTION:
URL:https://houstonheights.org/event/gabage-and-recycle-pick-up-15/
CATEGORIES:Garbage Pick-Up,Recycling pick-up
ATTACH;FMTTYPE=image/webp:https://houstonheights.org/wp-content/uploads/2026/01/Garbage-Recyle-Icons.webp
END:VEVENT
BEGIN:VEVENT
DTSTART;VALUE=DATE:20261203
DTEND;VALUE=DATE:20261204
DTSTAMP:20260423T110414
CREATED:20260121T044520Z
LAST-MODIFIED:20260303T230303Z
UID:22778-1796256000-1796342399@houstonheights.org
SUMMARY:Gabage and Recycle Pick Up
DESCRIPTION:
URL:https://houstonheights.org/event/gabage-and-recycle-pick-up-16/
CATEGORIES:Garbage Pick-Up,Recycling pick-up
ATTACH;FMTTYPE=image/webp:https://houstonheights.org/wp-content/uploads/2026/01/Garbage-Recyle-Icons.webp
END:VEVENT
BEGIN:VEVENT
DTSTART;VALUE=DATE:20261210
DTEND;VALUE=DATE:20261211
DTSTAMP:20260423T110414
CREATED:20260121T044657Z
LAST-MODIFIED:20260303T230210Z
UID:22780-1796860800-1796947199@houstonheights.org
SUMMARY:Gabage Pick Up
DESCRIPTION:
URL:https://houstonheights.org/event/gabage-pick-up-12/
CATEGORIES:Garbage Pick-Up
ATTACH;FMTTYPE=image/webp:https://houstonheights.org/wp-content/uploads/2026/01/GarbageIcon.webp
END:VEVENT
END:VCALENDAR