BEGIN:VCALENDAR
VERSION:2.0
PRODID:-//Houston Heights Association - ECPv6.15.20//NONSGML v1.0//EN
CALSCALE:GREGORIAN
METHOD:PUBLISH
X-ORIGINAL-URL:https://houstonheights.org
X-WR-CALDESC:Events for Houston Heights Association
REFRESH-INTERVAL;VALUE=DURATION:PT1H
X-Robots-Tag:noindex
X-PUBLISHED-TTL:PT1H
BEGIN:VTIMEZONE
TZID:America/Chicago
BEGIN:DAYLIGHT
TZOFFSETFROM:-0600
TZOFFSETTO:-0500
TZNAME:CDT
DTSTART:20250309T080000
END:DAYLIGHT
BEGIN:STANDARD
TZOFFSETFROM:-0500
TZOFFSETTO:-0600
TZNAME:CST
DTSTART:20251102T070000
END:STANDARD
BEGIN:DAYLIGHT
TZOFFSETFROM:-0600
TZOFFSETTO:-0500
TZNAME:CDT
DTSTART:20260308T080000
END:DAYLIGHT
BEGIN:STANDARD
TZOFFSETFROM:-0500
TZOFFSETTO:-0600
TZNAME:CST
DTSTART:20261101T070000
END:STANDARD
BEGIN:DAYLIGHT
TZOFFSETFROM:-0600
TZOFFSETTO:-0500
TZNAME:CDT
DTSTART:20270314T080000
END:DAYLIGHT
BEGIN:STANDARD
TZOFFSETFROM:-0500
TZOFFSETTO:-0600
TZNAME:CST
DTSTART:20271107T070000
END:STANDARD
END:VTIMEZONE
BEGIN:VEVENT
DTSTART;VALUE=DATE:20260305
DTEND;VALUE=DATE:20260306
DTSTAMP:20260423T105917
CREATED:20260120T205508Z
LAST-MODIFIED:20260303T225108Z
UID:22686-1772668800-1772755199@houstonheights.org
SUMMARY:Garbage Pick up
DESCRIPTION:
URL:https://houstonheights.org/event/garbage-pick-up-3/
CATEGORIES:Garbage Pick-Up
ATTACH;FMTTYPE=image/webp:https://houstonheights.org/wp-content/uploads/2026/01/GarbageIcon.webp
END:VEVENT
BEGIN:VEVENT
DTSTART;VALUE=DATE:20260312
DTEND;VALUE=DATE:20260313
DTSTAMP:20260423T105917
CREATED:20260120T205648Z
LAST-MODIFIED:20260304T033345Z
UID:22688-1773273600-1773359999@houstonheights.org
SUMMARY:Garbage and Recycling Pick up
DESCRIPTION:
URL:https://houstonheights.org/event/garbage-and-recycling-pick-up-3/
CATEGORIES:Garbage Pick-Up,Recycling pick-up
ATTACH;FMTTYPE=image/webp:https://houstonheights.org/wp-content/uploads/2026/01/Garbage-Recyle-Icons.webp
END:VEVENT
BEGIN:VEVENT
DTSTART;VALUE=DATE:20260319
DTEND;VALUE=DATE:20260320
DTSTAMP:20260423T105917
CREATED:20260120T205813Z
LAST-MODIFIED:20260303T224539Z
UID:22690-1773878400-1773964799@houstonheights.org
SUMMARY:Garbage Pick up
DESCRIPTION:
URL:https://houstonheights.org/event/garbage-pick-up-4/
CATEGORIES:Garbage Pick-Up
ATTACH;FMTTYPE=image/webp:https://houstonheights.org/wp-content/uploads/2026/01/GarbageIcon.webp
END:VEVENT
BEGIN:VEVENT
DTSTART;VALUE=DATE:20260326
DTEND;VALUE=DATE:20260327
DTSTAMP:20260423T105917
CREATED:20260120T210022Z
LAST-MODIFIED:20260304T033131Z
UID:22692-1774483200-1774569599@houstonheights.org
SUMMARY:Garbage and Recycling Pick up
DESCRIPTION:
URL:https://houstonheights.org/event/garbage-and-recycling-pick-up-4/
CATEGORIES:Garbage Pick-Up,Recycling pick-up
ATTACH;FMTTYPE=image/webp:https://houstonheights.org/wp-content/uploads/2026/01/Garbage-Recyle-Icons.webp
END:VEVENT
END:VCALENDAR